BEGIN:VCALENDAR
VERSION:2.0
PRODID:-//Kör Hoj - ECPv6.15.20//NONSGML v1.0//EN
CALSCALE:GREGORIAN
METHOD:PUBLISH
X-WR-CALNAME:Kör Hoj
X-ORIGINAL-URL:https://korhoj.se
X-WR-CALDESC:Händelser för Kör Hoj
REFRESH-INTERVAL;VALUE=DURATION:PT1H
X-Robots-Tag:noindex
X-PUBLISHED-TTL:PT1H
BEGIN:VTIMEZONE
TZID:Europe/Stockholm
BEGIN:DAYLIGHT
TZOFFSETFROM:+0100
TZOFFSETTO:+0200
TZNAME:CEST
DTSTART:20240331T010000
END:DAYLIGHT
BEGIN:STANDARD
TZOFFSETFROM:+0200
TZOFFSETTO:+0100
TZNAME:CET
DTSTART:20241027T010000
END:STANDARD
BEGIN:DAYLIGHT
TZOFFSETFROM:+0100
TZOFFSETTO:+0200
TZNAME:CEST
DTSTART:20250330T010000
END:DAYLIGHT
BEGIN:STANDARD
TZOFFSETFROM:+0200
TZOFFSETTO:+0100
TZNAME:CET
DTSTART:20251026T010000
END:STANDARD
BEGIN:DAYLIGHT
TZOFFSETFROM:+0100
TZOFFSETTO:+0200
TZNAME:CEST
DTSTART:20260329T010000
END:DAYLIGHT
BEGIN:STANDARD
TZOFFSETFROM:+0200
TZOFFSETTO:+0100
TZNAME:CET
DTSTART:20261025T010000
END:STANDARD
BEGIN:DAYLIGHT
TZOFFSETFROM:+0100
TZOFFSETTO:+0200
TZNAME:CEST
DTSTART:20270328T010000
END:DAYLIGHT
BEGIN:STANDARD
TZOFFSETFROM:+0200
TZOFFSETTO:+0100
TZNAME:CET
DTSTART:20271031T010000
END:STANDARD
END:VTIMEZONE
BEGIN:VEVENT
DTSTART;VALUE=DATE:20251201
DTEND;VALUE=DATE:20260316
DTSTAMP:20260420T153218
CREATED:20251014T112117Z
LAST-MODIFIED:20251014T112117Z
UID:448-1764547200-1773619199@korhoj.se
SUMMARY:KÖR HOJ i Spanien
DESCRIPTION:FLYG & KÖR HOJUpptäck Spanien och Málaga med Trygghet och Äventyr! Allt är ordnat och förberett för dig.\nLANSERINGSERBJUDANDE\nMed KÖR HOJ & MC-KONSULT är du i centrum!Vi erbjuder motorcykeläventyr i Spanien mellan 1 december och 15 mars – och du väljer själv dina datum.Vi låser dig inte till datum – du bestämmer själv när du vill flyga hit och hur många dagar du vill Köra Hoj tillsammans med svensk guide.Vi utgår från Torremolinos\, bara ett stenkast från stranden.Dagsturerna är väl planerade och du njuter av värmen\, vi äter gott och Kör Hoj en 2:a säsong när Sverige är kallt och snön ligger vit..\nVi är svenska företag med svenska guider och en resegaranti som enligt lag ska finnas för dig\, så du kan känna dig trygg hela vägen när du bokar din paketresa.När du jämför med andra aktörer – se till att resegarantin finns!\n\nGuider:-Jörgen ”KÖR HOJ” Evander-MC-Jalle ”MC-KONSULT”Vi har lång och gedigen erfarenhet från MC-körning\, fortbildning & Äventyr.Allt är förberett – du behöver bara flyga hit och Köra Hoj !\n\nVAD INGÅR:-Hotel med frukost\,-Hoj inkl bränsle-Dagsturer med svensk guide.-Vi hämtar dig på Malaga Flygplats och tar dig till hotellet.\nLanseringserbjudande\, 2950sek / mc-dygn\nDu kan självklart stanna\, eller komma tidigare en eller fler dagar utan körning\, och bara njuta av solen några dagar\, då hjälper vi dig med boende och lokala tips. Du kan även välja någon ”vilodag” utan mc mitt i din resa. Dessa mc-fria dagar kostar 1495:- per natt inklusive frukost.\n\nIngår ej:Lunch\, middag & eventuella vägavgifter.\nVi ger dig tips hur du tar med dig din MC utrustning.\n\nBOKA DITT ÄVENTYR:Hitta dina flygdatum och kontakta oss innan bokning av flygbiljett för kontroll av lediga platser\, därefter kan du boka flygbiljett.info@korhoj.se+46708220023\n/Jörgen
URL:https://korhoj.se/event/kor-hoj-i-spanien/
LOCATION:Jönköping
ATTACH;FMTTYPE=image/jpeg:https://korhoj.se/wp-content/uploads/2025/10/INFO-Spanien-crop.jpg
END:VEVENT
END:VCALENDAR